BEGIN:VCALENDAR
VERSION:2.0
PRODID:-//ADICAE Valencia - ECPv6.15.20//NONSGML v1.0//EN
CALSCALE:GREGORIAN
METHOD:PUBLISH
X-WR-CALNAME:ADICAE Valencia
X-ORIGINAL-URL:https://comunidadvalenciana.adicae.es
X-WR-CALDESC:Eventos para ADICAE Valencia
REFRESH-INTERVAL;VALUE=DURATION:PT1H
X-Robots-Tag:noindex
X-PUBLISHED-TTL:PT1H
BEGIN:VTIMEZONE
TZID:Europe/Madrid
BEGIN:DAYLIGHT
TZOFFSETFROM:+0100
TZOFFSETTO:+0200
TZNAME:CEST
DTSTART:20250330T010000
END:DAYLIGHT
BEGIN:STANDARD
TZOFFSETFROM:+0200
TZOFFSETTO:+0100
TZNAME:CET
DTSTART:20251026T010000
END:STANDARD
BEGIN:DAYLIGHT
TZOFFSETFROM:+0100
TZOFFSETTO:+0200
TZNAME:CEST
DTSTART:20260329T010000
END:DAYLIGHT
BEGIN:STANDARD
TZOFFSETFROM:+0200
TZOFFSETTO:+0100
TZNAME:CET
DTSTART:20261025T010000
END:STANDARD
BEGIN:DAYLIGHT
TZOFFSETFROM:+0100
TZOFFSETTO:+0200
TZNAME:CEST
DTSTART:20270328T010000
END:DAYLIGHT
BEGIN:STANDARD
TZOFFSETFROM:+0200
TZOFFSETTO:+0100
TZNAME:CET
DTSTART:20271031T010000
END:STANDARD
END:VTIMEZONE
BEGIN:VEVENT
DTSTART;TZID=Europe/Madrid:20260423T170000
DTEND;TZID=Europe/Madrid:20260423T200000
DTSTAMP:20260423T120210
CREATED:20260409T174602Z
LAST-MODIFIED:20260409T175438Z
UID:4749-1776963600-1776974400@comunidadvalenciana.adicae.es
SUMMARY:CHARLA: "La Declaración de la Renta y todo lo que los Consumidores necesiten saber"
DESCRIPTION:El jueves 23 de abril de 2026 a las 17:00h realizaremos una charla sobre la Declaración de la Renta 2025 para resolver las dudas de todos los consumidores. Será en nuestra sede de ADICAE Valencia (C/Navarra\, nº 9\, bajo. 46008 – Valencia) y por videoconferencia. En dicha charla se resolverán cuestiones como: \n1- ¿Cómo pueden declarar las pérdidas los afectados del caso «Arte y Naturaleza»?\n2- Parece que la AEAT no ha incluido las deducciones de la Generalitat sobre dentista\, instrumentos musicales\, oculistas\, etc. y hay una disputa de si se puede deducir o no\, ¿es cierto? ¿qué se pueden deducir?\n3- ¿Qué novedades hay con respecto al año pasado?\n4- ¿Cuándo es obligatorio realizar la Declaración de la Renta?\n5- ¿Tengo que declarar ayudas\, paro o ingresos extra?\n6- ¿Cómo se declaran las inversiones y planes de pensiones?\n7- He cobrado la devolución del banco por las cláusulas suelo y gastos hipotecarios ¿cómo se declaran? ¿sólo tengo que declarar los intereses porque lo demás es dinero que me debía el banco y ya lo había declarado en su momento o tengo que declarar la totalidad?\n8- ¿Cómo tengo que declarar una herencia?. De cara a la Declaración de la Renta\, es mejor una herencia en vida o tras el fallecimiento?\n9- ¿Cuándo es recomendable realizar una declaración conjunta o individual?\n¡TODO ESTO Y MUCHO MÁS! \nContaremos como ponentes con Cristina San Luis y Eva Pons\, Vocales de la Asociación Profesional de Asesores Fiscales de la Comunidad Valenciana (APAFCV) \nEnlace para acceder a la videoconferencia: https://us02web.zoom.us/meeting/register/e961_JBKQeuk7TQ2V62-FQ
URL:https://comunidadvalenciana.adicae.es/actividad/charla-la-declaracion-de-la-renta-y-todo-lo-que-los-consumidores-necesiten-saber/
ATTACH;FMTTYPE=image/png:https://comunidadvalenciana.adicae.es/wp-content/uploads/2026/04/CARTEL.png
END:VEVENT
BEGIN:VEVENT
DTSTART;TZID=Europe/Madrid:20260425T093000
DTEND;TZID=Europe/Madrid:20260425T150000
DTSTAMP:20260423T120210
CREATED:20260317T181119Z
LAST-MODIFIED:20260317T181207Z
UID:4422-1777109400-1777129200@comunidadvalenciana.adicae.es
SUMMARY:VISITA LA FÁBRICA DE CERVEZA L'AUDAÇ EN SONEJA (CASTELLÓN) CON ADICAE CV
DESCRIPTION:¿Quieres conocer el proceso de elaboración de la cerveza artesanal? \nVente con nosotros a visitar la fábrica de cerveza ecológica y artesanal en Soneja (Castellón) y podrás conocer cómo de la mezcla entre la malta\, el lúpulo y el agua (y otros ingredientes innovadores dependiendo de la receta…) sale uno de los caldos espumosos más disfrutados por todo el mundo\, la cerveza !! Además\, como objetivo fundamental\, queremos concienciar a todas las personas consumidoras la importancia del consumo de proximidad. \n¿Qué veremos en la visita? \n\nRecorrido por la fábrica: Nos enseñarán las herramientas y materiales que utilizan para el proceso de elaboración. En dicho recorrido\, se explicará el proceso de elaboración artesanal y sostenible\, destacando la producción ecológica y el respeto por el medio ambiente.\nConocimiento del producto: Se profundiza en la receta\, ingredientes y el concepto de «sin tonterías» que define a esta cooperativa valenciana.\nDegustación y compra: Habrá una cata de 6 tipos de cervezas diferentes acompañados de maridaje local (productos de proximidad como quesos\, embutidos\, aceitunas\, etc. Posteriormente podréis comprar los productos que queráis.\n\nSaldremos de Valencia a las 9:30h y llegaremos sobre las 15:00h aproximadamente si no hay retraso en la actividad. \nPRECIO: 20€/persona. Plazas limitadas. \nINSCRIPCIONES: Reserva plaza llamando al 963540101 o enviando un correo electrónico a coordinacionvalencia@adicae.net
URL:https://comunidadvalenciana.adicae.es/actividad/visita-la-fabrica-de-cerveza-laudac-en-soneja-castellon-con-adicae-cv/
ATTACH;FMTTYPE=image/png:https://comunidadvalenciana.adicae.es/wp-content/uploads/2026/03/Carteles-2026-2.png
END:VEVENT
END:VCALENDAR